BEGIN:VCALENDAR
VERSION:2.0
PRODID:-//UUEstrie - ECPv6.15.16//NONSGML v1.0//EN
CALSCALE:GREGORIAN
METHOD:PUBLISH
X-WR-CALNAME:UUEstrie
X-ORIGINAL-URL:https://uuestrie.ca
X-WR-CALDESC:Events for UUEstrie
REFRESH-INTERVAL;VALUE=DURATION:PT1H
X-Robots-Tag:noindex
X-PUBLISHED-TTL:PT1H
BEGIN:VTIMEZONE
TZID:America/New_York
BEGIN:DAYLIGHT
TZOFFSETFROM:-0500
TZOFFSETTO:-0400
TZNAME:EDT
DTSTART:20240310T070000
END:DAYLIGHT
BEGIN:STANDARD
TZOFFSETFROM:-0400
TZOFFSETTO:-0500
TZNAME:EST
DTSTART:20241103T060000
END:STANDARD
BEGIN:DAYLIGHT
TZOFFSETFROM:-0500
TZOFFSETTO:-0400
TZNAME:EDT
DTSTART:20250309T070000
END:DAYLIGHT
BEGIN:STANDARD
TZOFFSETFROM:-0400
TZOFFSETTO:-0500
TZNAME:EST
DTSTART:20251102T060000
END:STANDARD
BEGIN:DAYLIGHT
TZOFFSETFROM:-0500
TZOFFSETTO:-0400
TZNAME:EDT
DTSTART:20260308T070000
END:DAYLIGHT
BEGIN:STANDARD
TZOFFSETFROM:-0400
TZOFFSETTO:-0500
TZNAME:EST
DTSTART:20261101T060000
END:STANDARD
END:VTIMEZONE
BEGIN:VEVENT
DTSTART;TZID=America/New_York:20250105T103000
DTEND;TZID=America/New_York:20250105T120000
DTSTAMP:20260423T065949
CREATED:20241231T141453Z
LAST-MODIFIED:20241231T153203Z
UID:2051-1736073000-1736078400@uuestrie.ca
SUMMARY:Sunday\, January 5 10:30 AM - Camille Bouskéla\, "Fire Communion"
DESCRIPTION:On or near the first Sunday in January\, many Unitarian Universalist congregations hold a ritual to bid farewell to the old year\, and to release it. \nIn the words of Rev. Elizabeth Harding\, “The fire communion separates the end of the year from the beginning\, helping us to put in perspective the joys and sorrows\, the changes and transitions\, the ups and downs of the year. It’s a half-way point in our church year\, but a celebration of the outside calendar’s year’s end and year’s beginning.” \nIn a ceremony of the burning bowl\, people are invited to write down write down words\, or a phrase\, to sum up what they wish to release before entering the new year. They then come forward to burn that piece of paper. \nFrom https://www.uua.org/worship/holidays/fire-communion-burning-bowl \n~~~~~~~~~~~~~~~~~~~~~~~~~~~~~~ \nLe premier dimanche de janvier ou aux alentours de cette date\, de nombreuses congrégations unitariennes universalistes organisent un rituel pour dire adieu à la vieille année et la libérer. \nSelon les mots de la révérende Elizabeth Harding : « La communion du feu sépare la fin de l’année du début\, nous aidant à mettre en perspective les joies et les peines\, les changements et les transitions\, les hauts et les bas de l’année. C’est la moitié de notre année ecclésiale\, mais c’est une célébration de la fin et du début de l’année du calendrier extérieur. \nLors d’une cérémonie du bol brûlant\, les gens sont invités à écrire des mots\, ou une phrase\, pour résumer ce qu’ils souhaitent libérer avant d’entrer dans la nouvelle année. Ils viennent ensuite brûler ce morceau de papier. \nDe https://www.uua.org/worship/holidays/fire-communion-burning-bowl
URL:https://uuestrie.ca/event/sunday-january-7-1030-am-camille-bouskela-fire-communion/
LOCATION:UUEstrie – Stoddard Hall (Downstairs)\, 201 Rue Main\, North Hatley\, QC\, J0B 2C0\, Canada
CATEGORIES:Service
ATTACH;FMTTYPE=image/jpeg:https://uuestrie.ca/wp-content/uploads/2024/01/bdttvbrhong.jpg
END:VEVENT
BEGIN:VEVENT
DTSTART;TZID=America/New_York:20250112T103000
DTEND;TZID=America/New_York:20250112T120000
DTSTAMP:20260423T065949
CREATED:20250108T141857Z
LAST-MODIFIED:20250108T141857Z
UID:2056-1736677800-1736683200@uuestrie.ca
SUMMARY:Sunday\, January 12 10:30 AM - Winter Storytelling at UU Estrie\, facilitated by Melanie McCrea
DESCRIPTION:Join us this Sunday\, January 12th and bring a short story or anecdote.  This story could be from your own life or from another source that you would enjoy telling.  Or\, feel free to just come and listen. \n~~~~~~~~~~~~ \nRejoignez-nous ce dimanche 12 janvier et apportez une nouvelle ou une anecdote.  Cette histoire peut provenir de votre propre vie ou d’une autre source que vous aimeriez raconter.  Ou n’hésitez pas à venir écouter.
URL:https://uuestrie.ca/event/sunday-january-12-1030-am-winter-storytelling-at-uu-estrie-facilitated-by-melanie-mccrea/
LOCATION:UUEstrie – Stoddard Hall (Downstairs)\, 201 Rue Main\, North Hatley\, QC\, J0B 2C0\, Canada
CATEGORIES:Service
ATTACH;FMTTYPE=image/jpeg:https://uuestrie.ca/wp-content/uploads/2025/01/2954199.jpeg
END:VEVENT
BEGIN:VEVENT
DTSTART;TZID=America/New_York:20250119T103000
DTEND;TZID=America/New_York:20250119T120000
DTSTAMP:20260423T065949
CREATED:20250116T130602Z
LAST-MODIFIED:20250116T130602Z
UID:2062-1737282600-1737288000@uuestrie.ca
SUMMARY:Sunday\, January 19 10:30 AM - Lessons in Non-Violence by Rev. Dr. Martin Luther King\, Jr. led by Amy Panetta\, Lay Chaplain
DESCRIPTION:The work of civil rights leader\, Rev. Dr. Martin Luther King\, Jr.\, led to the eventual dismantling of segregation in the United States and empowered movements in achieving civil rights and human dignity around the globe.   Every year on the third Monday of January\, Dr. King is honored by a federal holiday in the US and celebrations worldwide.  This Sunday\, we will explore his strategies of non-violence which can inspire and empower our lives today. \nPlease join us for our service on Sunday\, January 26th\, entitled\, “Practically Dying: Who is it MAID for?” with Dr. Peter Moliner. \n~~~~~~~~~~~~ \nLe travail du leader des droits civiques\, le révérend Dr. Martin Luther King\, Jr.\, a conduit au démantèlement de la ségrégation aux États-Unis et a permis à des mouvements de faire valoir les droits civiques et la dignité humaine dans le monde entier. Chaque année\, le troisième lundi de janvier\, le Dr King est honoré par un jour férié fédéral aux États-Unis et des célébrations dans le monde entier. Ce dimanche\, nous explorerons ses stratégies de non-violence qui peuvent inspirer et renforcer nos vies aujourd’hui. \nRejoignez-nous pour notre service du dimanche 26 janvier\, intitulé « Pratiquement en train de mourir : à qui s’adresse l’AMM ? » avec le Dr. Peter Moliner.
URL:https://uuestrie.ca/event/sunday-january-19-1030-am-lessons-in-non-violence-by-rev-dr-martin-luther-king-jr-led-by-amy-panetta-lay-chaplain/
LOCATION:UUEstrie – Stoddard Hall (Downstairs)\, 201 Rue Main\, North Hatley\, QC\, J0B 2C0\, Canada
CATEGORIES:Service
ATTACH;FMTTYPE=image/jpeg:https://uuestrie.ca/wp-content/uploads/2025/01/MLK-scaled.jpg
END:VEVENT
BEGIN:VEVENT
DTSTART;TZID=America/New_York:20250126T103000
DTEND;TZID=America/New_York:20250126T120000
DTSTAMP:20260423T065949
CREATED:20250121T130846Z
LAST-MODIFIED:20250121T130846Z
UID:2065-1737887400-1737892800@uuestrie.ca
SUMMARY:Sunday\, January 26 10:30 AM - Practically Dying: Who is it MAID for? Dr. Peter Moliner
DESCRIPTION:Understanding practical aspects when you or a loved one is nearing the end of life:  What to know and what to expect. Medical Aid in dying will be discussed. \n~~~~~~~~~~~~ \nComprendre les aspects pratiques lorsque vous ou un proche êtes en fin de vie : ce qu’il faut savoir et à quoi s’attendre. L’aide médicale à mourir sera abordée.
URL:https://uuestrie.ca/event/sunday-january-26-1030-am-practically-dying-who-is-it-maid-for-dr-peter-moliner/
LOCATION:UUEstrie – Stoddard Hall (Downstairs)\, 201 Rue Main\, North Hatley\, QC\, J0B 2C0\, Canada
CATEGORIES:Service
ATTACH;FMTTYPE=image/jpeg:https://uuestrie.ca/wp-content/uploads/2025/01/bxxgtqew1m4.jpg
END:VEVENT
END:VCALENDAR