BEGIN:VCALENDAR
VERSION:2.0
PRODID:-//UUEstrie - ECPv6.15.16//NONSGML v1.0//EN
CALSCALE:GREGORIAN
METHOD:PUBLISH
X-ORIGINAL-URL:https://uuestrie.ca
X-WR-CALDESC:Events for UUEstrie
REFRESH-INTERVAL;VALUE=DURATION:PT1H
X-Robots-Tag:noindex
X-PUBLISHED-TTL:PT1H
BEGIN:VTIMEZONE
TZID:America/New_York
BEGIN:DAYLIGHT
TZOFFSETFROM:-0500
TZOFFSETTO:-0400
TZNAME:EDT
DTSTART:20230312T070000
END:DAYLIGHT
BEGIN:STANDARD
TZOFFSETFROM:-0400
TZOFFSETTO:-0500
TZNAME:EST
DTSTART:20231105T060000
END:STANDARD
BEGIN:DAYLIGHT
TZOFFSETFROM:-0500
TZOFFSETTO:-0400
TZNAME:EDT
DTSTART:20240310T070000
END:DAYLIGHT
BEGIN:STANDARD
TZOFFSETFROM:-0400
TZOFFSETTO:-0500
TZNAME:EST
DTSTART:20241103T060000
END:STANDARD
BEGIN:DAYLIGHT
TZOFFSETFROM:-0500
TZOFFSETTO:-0400
TZNAME:EDT
DTSTART:20250309T070000
END:DAYLIGHT
BEGIN:STANDARD
TZOFFSETFROM:-0400
TZOFFSETTO:-0500
TZNAME:EST
DTSTART:20251102T060000
END:STANDARD
END:VTIMEZONE
BEGIN:VEVENT
DTSTART;TZID=America/New_York:20240407T103000
DTEND;TZID=America/New_York:20240407T120000
DTSTAMP:20260425T091619
CREATED:20240406T020611Z
LAST-MODIFIED:20240406T020631Z
UID:1880-1712485800-1712491200@uuestrie.ca
SUMMARY:April 7 Sunday service\, 10:30 a.m.: "Spring cleanup"
DESCRIPTION:To get ready to move services up to the sanctuary\, we have some tidying up to do! Come and lend a hand. Thank you!
URL:https://uuestrie.ca/event/may-21-sunday-service-1030-a-m-spring-cleanup-2/
LOCATION:UUEstrie – Stoddard Hall (Downstairs)\, 201 Rue Main\, North Hatley\, QC\, J0B 2C0\, Canada
CATEGORIES:Service
ATTACH;FMTTYPE=image/jpeg:https://uuestrie.ca/wp-content/uploads/2024/04/48889.jpg
ORGANIZER;CN="Ryan Frizzell":MAILTO:info@uuestrie.ca
END:VEVENT
BEGIN:VEVENT
DTSTART;TZID=America/New_York:20240414T103000
DTEND;TZID=America/New_York:20240414T120000
DTSTAMP:20260425T091619
CREATED:20240411T004423Z
LAST-MODIFIED:20240411T004423Z
UID:1884-1713090600-1713096000@uuestrie.ca
SUMMARY:April 14 - Seasonal Rest and Recharge\, with Amy Panetta
DESCRIPTION:Certain points in the year\, such as seasonal transitions\, can be especially challenging. The elements of earth\, air\, fire\, water\, as well as connection to the Spirit of Life can be harnessed in order for balance\, restoration\, rejuvenation\, and homeostasis. May we come together to explore the interplay of stress and rest in our lives. Let’s discover some kernels of wisdom to calm and bring peace when the season brings what feels like a quickening and frenzy of busy-ness. \n~~~~~~~~~~~~~~~~~~~~~~~~~~~~~~ \nCertains moments de l’année\, comme les transitions saisonnières\, peuvent être particulièrement difficiles. Les éléments terre\, air\, feu\, eau\, ainsi que la connexion à l’Esprit de vie peuvent être exploités pour assurer l’équilibre\, la restauration\, le rajeunissement et l’homéostasie. Puissions-nous nous réunir pour explorer l’interaction du stress et du repos dans nos vies. Découvrons quelques noyaux de sagesse pour calmer et apporter la paix lorsque la saison apporte ce qui ressemble à une accélération et une frénésie d’activité.
URL:https://uuestrie.ca/event/april-14-seasonal-rest-and-recharge-with-amy-panetta/
LOCATION:UUEstrie – Stoddard Hall (Downstairs)\, 201 Rue Main\, North Hatley\, QC\, J0B 2C0\, Canada
CATEGORIES:Service
ATTACH;FMTTYPE=image/jpeg:https://uuestrie.ca/wp-content/uploads/2024/04/pexels-mariam-antadze-5968894-scaled.jpg
ORGANIZER;CN="Ryan Frizzell":MAILTO:info@uuestrie.ca
END:VEVENT
BEGIN:VEVENT
DTSTART;TZID=America/New_York:20240421T103000
DTEND;TZID=America/New_York:20240421T120000
DTSTAMP:20260425T091619
CREATED:20240418T120211Z
LAST-MODIFIED:20240424T120452Z
UID:1892-1713695400-1713700800@uuestrie.ca
SUMMARY:April 21 - Share a Poem\, with Esther Saanum
DESCRIPTION:We will have an abbreviated service in the Sanctuary upstairs respecting Chalice lighting and affirmation following opening words. Then – those showing up to read poetry of their own composition or of others\, with or without notice\, will be welcomed. Refreshments to follow in the adjacent upstairs room. Happy Poetry Month! \n~~~~~~~~~~~~~~~~~~~~~~~~~~~~~~ \nNous aurons un service abrégé dans le sanctuaire à l’étage concernant l’allumage du calice et l’affirmation après les mots d’ouverture. Ensuite\, ceux qui se présenteront pour lire de la poésie de leur propre composition ou de celle d’autres personnes\, avec ou sans préavis\, seront les bienvenus. Rafraîchissements à suivre dans la salle adjacente à l’étage. Joyeux mois de la poésie!
URL:https://uuestrie.ca/event/april-14-share-a-poem-with-esther-saanum/
LOCATION:UUEstrie – Sanctuary (Upstairs)\, 201 Rue Main\, North Hatley\, QC\, J0B 2C0\, Canada
CATEGORIES:Service
ATTACH;FMTTYPE=image/jpeg:https://uuestrie.ca/wp-content/uploads/2024/04/2246457.jpg
ORGANIZER;CN="Ryan Frizzell":MAILTO:info@uuestrie.ca
END:VEVENT
BEGIN:VEVENT
DTSTART;TZID=America/New_York:20240428T103000
DTEND;TZID=America/New_York:20240428T120000
DTSTAMP:20260425T091619
CREATED:20240424T121110Z
LAST-MODIFIED:20240424T121110Z
UID:1895-1714300200-1714305600@uuestrie.ca
SUMMARY:April 28 - What's in a Name? - A participatory service\, with Kevin Jensen
DESCRIPTION:Join us for a participatory service exploring “What’s in a Name?” \n~~~~~~~~~~~~~~~~~~~~~~~~~~~~~~ \nRejoignez-nous pour un service participatif explorant « Qu’est-ce qu’il y a dans un nom ? »
URL:https://uuestrie.ca/event/april-28-whats-in-a-name-a-participatory-service-with-kevin-jensen/
LOCATION:UUEstrie – Sanctuary (Upstairs)\, 201 Rue Main\, North Hatley\, QC\, J0B 2C0\, Canada
CATEGORIES:Service
ATTACH;FMTTYPE=image/jpeg:https://uuestrie.ca/wp-content/uploads/2024/04/8exd21d-cu8.jpg
END:VEVENT
END:VCALENDAR