BEGIN:VCALENDAR
VERSION:2.0
PRODID:-//UUEstrie - ECPv6.15.16//NONSGML v1.0//EN
CALSCALE:GREGORIAN
METHOD:PUBLISH
X-ORIGINAL-URL:https://uuestrie.ca
X-WR-CALDESC:Events for UUEstrie
REFRESH-INTERVAL;VALUE=DURATION:PT1H
X-Robots-Tag:noindex
X-PUBLISHED-TTL:PT1H
BEGIN:VTIMEZONE
TZID:America/New_York
BEGIN:DAYLIGHT
TZOFFSETFROM:-0500
TZOFFSETTO:-0400
TZNAME:EDT
DTSTART:20200308T070000
END:DAYLIGHT
BEGIN:STANDARD
TZOFFSETFROM:-0400
TZOFFSETTO:-0500
TZNAME:EST
DTSTART:20201101T060000
END:STANDARD
BEGIN:DAYLIGHT
TZOFFSETFROM:-0500
TZOFFSETTO:-0400
TZNAME:EDT
DTSTART:20210314T070000
END:DAYLIGHT
BEGIN:STANDARD
TZOFFSETFROM:-0400
TZOFFSETTO:-0500
TZNAME:EST
DTSTART:20211107T060000
END:STANDARD
BEGIN:DAYLIGHT
TZOFFSETFROM:-0500
TZOFFSETTO:-0400
TZNAME:EDT
DTSTART:20220313T070000
END:DAYLIGHT
BEGIN:STANDARD
TZOFFSETFROM:-0400
TZOFFSETTO:-0500
TZNAME:EST
DTSTART:20221106T060000
END:STANDARD
END:VTIMEZONE
BEGIN:VEVENT
DTSTART;TZID=America/New_York:20211107T103000
DTEND;TZID=America/New_York:20211107T120000
DTSTAMP:20260420T000234
CREATED:20211105T222649Z
LAST-MODIFIED:20211105T222649Z
UID:1303-1636281000-1636286400@uuestrie.ca
SUMMARY:(In-person) All Souls - Remembrance of lost loved ones
DESCRIPTION:An ancient Celtic tradition describes this time of year as when “the veil between the two worlds is thinnest”. In this service we encourage everyone to share a personal testimony about someone important to them who has passed away in the recent past. \nPlease note our Covid-19 guidelines for in-person services at https://uuestrie.ca/covid-19-guidelines/
URL:https://uuestrie.ca/event/in-person-all-souls-remembrance-of-lost-loved-ones/
LOCATION:UUEstrie – Sanctuary (Upstairs)\, 201 Rue Main\, North Hatley\, QC\, J0B 2C0\, Canada
CATEGORIES:Service
ATTACH;FMTTYPE=image/jpeg:https://uuestrie.ca/wp-content/uploads/2021/11/j9yjs3nnnlg.jpg
END:VEVENT
BEGIN:VEVENT
DTSTART;TZID=America/New_York:20211114T103000
DTEND;TZID=America/New_York:20211114T120000
DTSTAMP:20260420T000234
CREATED:20211111T011426Z
LAST-MODIFIED:20211111T011426Z
UID:1316-1636885800-1636891200@uuestrie.ca
SUMMARY:Online Via Zoom - Congregational discussion on the proposed 8th Principle (With Crystle Reid and Ryan Frizzell)
DESCRIPTION:On November 27\, delegates will vote at a Special Meeting of CUC members on the adoption of a new 8th Principle. \n\n“We\, the member congregations of the Canadian Unitarian Council\, covenant to affirm and promote: \nIndividual and communal action that accountably dismantles racism and systemic barriers to full inclusion in ourselves and our institutions” \n\nWe are holding a congregational discussion at our Sunday Service so that delegates from UUEstrie can better vote on behalf or our community and to share the work of the Dismantling Racism Study group that led to it’s creation.
URL:https://uuestrie.ca/event/online-via-zoom-congregational-discussion-on-the-proposed-8th-principle-with-crystle-reid-and-ryan-frizzell/
LOCATION:Via Zoom
CATEGORIES:Service
ATTACH;FMTTYPE=image/jpeg:https://uuestrie.ca/wp-content/uploads/2018/12/download.jpeg
END:VEVENT
BEGIN:VEVENT
DTSTART;TZID=America/New_York:20211120T190000
DTEND;TZID=America/New_York:20211120T203000
DTSTAMP:20260420T000234
CREATED:20211111T005933Z
LAST-MODIFIED:20211111T010104Z
UID:1311-1637434800-1637440200@uuestrie.ca
SUMMARY:26th CHILD HAVEN FUNDRAISER
DESCRIPTION:YOU ARE INVITED TO A VERY SPECIAL EVENT !\nMONTREAL’s 26th CHILD HAVEN FUNDRAISER\nDATE – Saturday Nov. 20\, 2021\, 7:00 – 8:30 p.m.\nThis year\, incorporating all of Quebec and the Maritimes !\nWHERE? ON ZOOM!\n• We will have a live dance performance by our Kaliyampoondi Child Haven children\n• We will have a virtual tour of the Child Haven Homes with Tour Guide Robin\n• We will have an online auction of treasures from India\, Nepal\, Tibet and Bangladesh\nwww.32auctions.com/ChildHavenHolidayAuction\nopens at 10 a.m. Nov 11th and closes at 10 p.m. on Nov 20th\nGreat way to support our Child Haven children and find gifts for yourself – and others!\nHOW TO ATTEND?\nBuy an event “ticket” ($45 per person\, or as much as you wish to donate) at the link on the Child Haven website https://childhaven.ca/fundraiser_montreal_2021.html and then on the Donate button.\nYou will receive a tax receipt for 100% of your donation and you will get an email or telephone call with the Zoom invitation link a few days before the event.
URL:https://uuestrie.ca/event/26th-child-haven-fundraiser/
LOCATION:Via Zoom
CATEGORIES:Away from UUEstrie,Special Event
ATTACH;FMTTYPE=image/jpeg:https://uuestrie.ca/wp-content/uploads/2021/11/Montreal-Nov-2021-CH-final-Eng.jpg
END:VEVENT
BEGIN:VEVENT
DTSTART;TZID=America/New_York:20211121T103000
DTEND;TZID=America/New_York:20211121T120000
DTSTAMP:20260420T000234
CREATED:20211119T023305Z
LAST-MODIFIED:20211119T023305Z
UID:1318-1637490600-1637496000@uuestrie.ca
SUMMARY:(In-person) Church clean-up.
DESCRIPTION:In place of the service\, we will gather to clean up and discard items that were damaged from a recent hot water heater break in the church. \nThe board of directors are working to get the damage repaired and the hot water heater replaced. In the meantime we need to go through the items and discard those that are permanently damaged. Anyone who is willing and able to join us to help in the cleanup is welcome. \nPlease note our Covid-19 guidelines for in-person services at https://uuestrie.ca/covid-19-guidelines/
URL:https://uuestrie.ca/event/in-person-church-clean-up/
LOCATION:UUEstrie – Sanctuary (Upstairs)\, 201 Rue Main\, North Hatley\, QC\, J0B 2C0\, Canada
CATEGORIES:Service
ATTACH;FMTTYPE=image/jpeg:https://uuestrie.ca/wp-content/uploads/2021/11/qi1crszhhac.jpg
ORGANIZER;CN="Ryan Frizzell":MAILTO:info@uuestrie.ca
END:VEVENT
BEGIN:VEVENT
DTSTART;TZID=America/New_York:20211128T103000
DTEND;TZID=America/New_York:20211128T120000
DTSTAMP:20260420T000234
CREATED:20211127T213440Z
LAST-MODIFIED:20211127T213440Z
UID:1325-1638095400-1638100800@uuestrie.ca
SUMMARY:Online Via Zoom - Ted Talk - Why We Should Embrace Aging as an Adventure (With Crystle Reid)
DESCRIPTION:Crystle will share a Ted Talk and lead congregational discussion
URL:https://uuestrie.ca/event/online-via-zoom-ted-talk-why-we-should-embrace-aging-as-an-adventure-with-crystle-reid/
LOCATION:Via Zoom
CATEGORIES:Away from UUEstrie,Service
ATTACH;FMTTYPE=image/jpeg:https://uuestrie.ca/wp-content/uploads/2021/11/y0oamd_coum.jpg
END:VEVENT
END:VCALENDAR