BEGIN:VCALENDAR
VERSION:2.0
PRODID:-//UUEstrie - ECPv6.15.16//NONSGML v1.0//EN
CALSCALE:GREGORIAN
METHOD:PUBLISH
X-WR-CALNAME:UUEstrie
X-ORIGINAL-URL:https://uuestrie.ca
X-WR-CALDESC:Events for UUEstrie
REFRESH-INTERVAL;VALUE=DURATION:PT1H
X-Robots-Tag:noindex
X-PUBLISHED-TTL:PT1H
BEGIN:VTIMEZONE
TZID:America/New_York
BEGIN:DAYLIGHT
TZOFFSETFROM:-0500
TZOFFSETTO:-0400
TZNAME:EDT
DTSTART:20200308T070000
END:DAYLIGHT
BEGIN:STANDARD
TZOFFSETFROM:-0400
TZOFFSETTO:-0500
TZNAME:EST
DTSTART:20201101T060000
END:STANDARD
BEGIN:DAYLIGHT
TZOFFSETFROM:-0500
TZOFFSETTO:-0400
TZNAME:EDT
DTSTART:20210314T070000
END:DAYLIGHT
BEGIN:STANDARD
TZOFFSETFROM:-0400
TZOFFSETTO:-0500
TZNAME:EST
DTSTART:20211107T060000
END:STANDARD
BEGIN:DAYLIGHT
TZOFFSETFROM:-0500
TZOFFSETTO:-0400
TZNAME:EDT
DTSTART:20220313T070000
END:DAYLIGHT
BEGIN:STANDARD
TZOFFSETFROM:-0400
TZOFFSETTO:-0500
TZNAME:EST
DTSTART:20221106T060000
END:STANDARD
END:VTIMEZONE
BEGIN:VEVENT
DTSTART;TZID=America/New_York:20211009T140000
DTEND;TZID=America/New_York:20211009T153000
DTSTAMP:20260420T041028
CREATED:20211009T132101Z
LAST-MODIFIED:20211009T132101Z
UID:1286-1633788000-1633793400@uuestrie.ca
SUMMARY:Book Launch: A Bowl of Orange Suns by Carole Martignacco
DESCRIPTION:Book Launch: Carole Martignacco and Shoreline Press launch her new book of poetry\, A Bowl of Orange Suns\, on Saturday\, October 9\, at 2 p.m. Martignacco is author of the award-winning book\, The Everything Seed. She will read from her new book\, offer music by cellist Catherine Walker and a musician friend\, and take-home orange treats. All are welcome\, with masks and distancing; vaccine passport required. The event is in the UUEstrie sanctuary (upstairs)\, 201 Main\, North Hatley.  \nLancement du livre : Carole Martignacco et Shoreline Press lancent son nouveau livre de poésie\, A Bowl of Orange Suns\, le samedi 9 octobre à 14 h. Martignacco est l’auteur du livre primé\, The Everything Seed. Elle lira un extrait de son nouveau livre\, proposera de la musique de la violoncelliste Catherine Walker et d’un ami musicien\, et des friandises à l’orange à emporter. Tous sont les bienvenus\, avec masques et distanciation ; passeport vaccinal obligatoire. L’événement se déroule dans le sanctuaire UUEstrie (à l’étage)\, 201 Main\, North Hatley. 
URL:https://uuestrie.ca/event/book-launch-a-bowl-of-orange-suns-by-carole-martignacco/
LOCATION:UUEstrie – Sanctuary (Upstairs)\, 201 Rue Main\, North Hatley\, QC\, J0B 2C0\, Canada
CATEGORIES:Special Event
END:VEVENT
BEGIN:VEVENT
DTSTART;TZID=America/New_York:20211010T103000
DTEND;TZID=America/New_York:20211010T120000
DTSTAMP:20260420T041028
CREATED:20211006T132745Z
LAST-MODIFIED:20211006T132745Z
UID:1284-1633861800-1633867200@uuestrie.ca
SUMMARY:Thanksgiving with Rev. Carole Martignacco
DESCRIPTION:Join\, us in person at the church\,  for a special celebration of Thanksgiving with Rev. Carole Martignacco\, visiting from St. Andrews by the Sea. \nPlease be sure to note our Covid-19 guidelines for in-person services.
URL:https://uuestrie.ca/event/thanksgiving-with-rev-carole-martignacco/
LOCATION:UUEstrie – Sanctuary (Upstairs)\, 201 Rue Main\, North Hatley\, QC\, J0B 2C0\, Canada
CATEGORIES:Service
ATTACH;FMTTYPE=image/jpeg:https://uuestrie.ca/wp-content/uploads/2016/04/2015-05-Carole5.jpg
END:VEVENT
BEGIN:VEVENT
DTSTART;TZID=America/New_York:20211017T103000
DTEND;TZID=America/New_York:20211017T120000
DTSTAMP:20260420T041028
CREATED:20211016T182804Z
LAST-MODIFIED:20211016T182804Z
UID:1289-1634466600-1634472000@uuestrie.ca
SUMMARY:Online via Zoom - Joe Weber presents his collection
DESCRIPTION:Joe Weber will share special pieces from his art collection online via Zoom.
URL:https://uuestrie.ca/event/online-via-zoom-joe-weber-presents-his-collection/
LOCATION:Via Zoom
CATEGORIES:Away from UUEstrie,Service
ATTACH;FMTTYPE=image/jpeg:https://uuestrie.ca/wp-content/uploads/2021/10/22ikhjykxg4.jpg
END:VEVENT
BEGIN:VEVENT
DTSTART;TZID=America/New_York:20211024T103000
DTEND;TZID=America/New_York:20211024T120000
DTSTAMP:20260420T041028
CREATED:20211016T183231Z
LAST-MODIFIED:20211016T183231Z
UID:1293-1635071400-1635076800@uuestrie.ca
SUMMARY:Online via Zoom - Jonathan Ellison - Update from Water for African Women
DESCRIPTION:We will hear from Jonathan Ellison on his work with Water for African Women\, a project that is deeply linked to UUEstrie.
URL:https://uuestrie.ca/event/online-via-zoom-jonathan-ellison-update-from-water-for-african-women/
LOCATION:Via Zoom
CATEGORIES:Away from UUEstrie,Service
ATTACH;FMTTYPE=image/jpeg:https://uuestrie.ca/wp-content/uploads/2019/06/WaterforWomen.jpg
END:VEVENT
BEGIN:VEVENT
DTSTART;TZID=America/New_York:20211031T103000
DTEND;TZID=America/New_York:20211031T120000
DTSTAMP:20260420T041028
CREATED:20211029T231249Z
LAST-MODIFIED:20211029T231249Z
UID:1296-1635676200-1635681600@uuestrie.ca
SUMMARY:(In-person) HALLOWEEN\, with/avec Crystle Reid & Mary Ann McCarron
DESCRIPTION:For Halloween! People can come disguised (if you want) and Crystle will arrange some games and we could go for a walk outside. \nPour Halloween ! Les gens peuvent venir déguisés (si vous le souhaitez) et Crystle organisera des jeux et nous pourrons nous promener à l’extérieur. \nPlease be sure to note our Covid-19 guidelines for in-person services. \nhttps://uuestrie.ca/covid-19-guidelines/
URL:https://uuestrie.ca/event/in-person-halloween-with-avec-crystle-reid-mary-ann-mccarron/
LOCATION:UUEstrie – Sanctuary (Upstairs)\, 201 Rue Main\, North Hatley\, QC\, J0B 2C0\, Canada
CATEGORIES:Service
ATTACH;FMTTYPE=image/jpeg:https://uuestrie.ca/wp-content/uploads/2021/10/6gtta8wz65e.jpg
END:VEVENT
END:VCALENDAR