BEGIN:VCALENDAR
VERSION:2.0
PRODID:-//UUEstrie - ECPv6.15.16//NONSGML v1.0//EN
CALSCALE:GREGORIAN
METHOD:PUBLISH
X-ORIGINAL-URL:https://uuestrie.ca
X-WR-CALDESC:Events for UUEstrie
REFRESH-INTERVAL;VALUE=DURATION:PT1H
X-Robots-Tag:noindex
X-PUBLISHED-TTL:PT1H
BEGIN:VTIMEZONE
TZID:America/New_York
BEGIN:DAYLIGHT
TZOFFSETFROM:-0500
TZOFFSETTO:-0400
TZNAME:EDT
DTSTART:20200308T070000
END:DAYLIGHT
BEGIN:STANDARD
TZOFFSETFROM:-0400
TZOFFSETTO:-0500
TZNAME:EST
DTSTART:20201101T060000
END:STANDARD
BEGIN:DAYLIGHT
TZOFFSETFROM:-0500
TZOFFSETTO:-0400
TZNAME:EDT
DTSTART:20210314T070000
END:DAYLIGHT
BEGIN:STANDARD
TZOFFSETFROM:-0400
TZOFFSETTO:-0500
TZNAME:EST
DTSTART:20211107T060000
END:STANDARD
BEGIN:DAYLIGHT
TZOFFSETFROM:-0500
TZOFFSETTO:-0400
TZNAME:EDT
DTSTART:20220313T070000
END:DAYLIGHT
BEGIN:STANDARD
TZOFFSETFROM:-0400
TZOFFSETTO:-0500
TZNAME:EST
DTSTART:20221106T060000
END:STANDARD
END:VTIMEZONE
BEGIN:VEVENT
DTSTART;TZID=America/New_York:20210912T103000
DTEND;TZID=America/New_York:20210912T120000
DTSTAMP:20260423T194355
CREATED:20210911T135314Z
LAST-MODIFIED:20210912T142736Z
UID:1271-1631442600-1631448000@uuestrie.ca
SUMMARY:Online via Zoom - Ted Talk entitled\, "How Boredom Can Lead to Your Most Brilliant Ideas" - Crystle Reid
DESCRIPTION:A Ted Talk video shared over Zoom: \nDo you sometimes have your most creative ideas while folding laundry\, washing dishes or doing nothing in particular? It’s because when your body goes on autopilot\, your brain gets busy forming new neural connections that connect ideas and solve problems. Manoush Zomorodi explains the connection between spacing out and creativity.
URL:https://uuestrie.ca/event/online-via-zoom-ted-talk-entitled-how-boredom-can-lead-to-your-most-brilliant-ideas-crystle-reid/
LOCATION:Via Zoom
CATEGORIES:Away from UUEstrie,Service
ATTACH;FMTTYPE=image/jpeg:https://uuestrie.ca/wp-content/uploads/2021/09/pe4gh8a8mby.jpg
END:VEVENT
BEGIN:VEVENT
DTSTART;TZID=America/New_York:20210919T103000
DTEND;TZID=America/New_York:20210919T120000
DTSTAMP:20260423T194355
CREATED:20210911T141836Z
LAST-MODIFIED:20210912T142638Z
UID:1275-1632047400-1632052800@uuestrie.ca
SUMMARY:Soundwalk - outdoor service at the church - with Ryan Frizzell
DESCRIPTION:A Sound Walk is… \na listening exercise that helps us become aware\nof our immediate acoustic environment.\nIt is also about the aesthetic pleasures of listening.\nListening to sounds we might otherwise have missed;\nlistening to the rhythm of sounds;\nlistening for the unique ‘voice’ of a city. \nIt’s about enjoying the sensual beauty and sheer surprise\nof sound… \n– From hildegardwesterkamp.ca \nWe will take a 20 minute easy walk in North Hatley to experience the sounds around us. In the event of rain\, we will go inside the church for a sharing service.
URL:https://uuestrie.ca/event/soundwalk-outdoor-service-at-the-church-with-ryan-frizzell/
LOCATION:Via Zoom
CATEGORIES:Service
ATTACH;FMTTYPE=image/jpeg:https://uuestrie.ca/wp-content/uploads/2021/09/n8raeceenpo.jpg
ORGANIZER;CN="Ryan Frizzell":MAILTO:info@uuestrie.ca
END:VEVENT
END:VCALENDAR