BEGIN:VCALENDAR
VERSION:2.0
PRODID:-//UUEstrie - ECPv6.15.16//NONSGML v1.0//EN
CALSCALE:GREGORIAN
METHOD:PUBLISH
X-ORIGINAL-URL:https://uuestrie.ca
X-WR-CALDESC:Events for UUEstrie
REFRESH-INTERVAL;VALUE=DURATION:PT1H
X-Robots-Tag:noindex
X-PUBLISHED-TTL:PT1H
BEGIN:VTIMEZONE
TZID:America/New_York
BEGIN:DAYLIGHT
TZOFFSETFROM:-0500
TZOFFSETTO:-0400
TZNAME:EDT
DTSTART:20200308T070000
END:DAYLIGHT
BEGIN:STANDARD
TZOFFSETFROM:-0400
TZOFFSETTO:-0500
TZNAME:EST
DTSTART:20201101T060000
END:STANDARD
BEGIN:DAYLIGHT
TZOFFSETFROM:-0500
TZOFFSETTO:-0400
TZNAME:EDT
DTSTART:20210314T070000
END:DAYLIGHT
BEGIN:STANDARD
TZOFFSETFROM:-0400
TZOFFSETTO:-0500
TZNAME:EST
DTSTART:20211107T060000
END:STANDARD
BEGIN:DAYLIGHT
TZOFFSETFROM:-0500
TZOFFSETTO:-0400
TZNAME:EDT
DTSTART:20220313T070000
END:DAYLIGHT
BEGIN:STANDARD
TZOFFSETFROM:-0400
TZOFFSETTO:-0500
TZNAME:EST
DTSTART:20221106T060000
END:STANDARD
END:VTIMEZONE
BEGIN:VEVENT
DTSTART;TZID=America/New_York:20210829T103000
DTEND;TZID=America/New_York:20210829T120000
DTSTAMP:20260423T134324
CREATED:20210824T132132Z
LAST-MODIFIED:20210824T132132Z
UID:1265-1630233000-1630238400@uuestrie.ca
SUMMARY:Water Communion /  Communion de l'eau - in person at the church
DESCRIPTION:Our first in-person service since March 15\, 2020 is sure to be a special one. To mark this occasion we will be holding our annual water communion service. Please see the Covid-19 guidelines at the bottom of this post to learn about the precautions we are taking to protect our community. \nEveryone is invited to bring a little water and pour it into a large communal bowl and tell where it is from\, or what it means to them\, or whatever. Water will be available for those who fail or forget to bring some of their own. The Water Communion is a ritual that allows us to share the meaning of significant happenings that we have experienced. \n~~~~~~~~~~~~~~~~~~~ \nTout le monde est invité à apporter un peu d’eau et à la verser dans un grand bol commun et à dire d’où elle vient\, ou ce que cela signifie pour eux\, ou peu importe. L’eau sera disponible pour ceux qui échouent ou oublient d’apporter une partie de leur part. La communion de l’eau est un rituel qui nous permet de partager le sens d’événements significatifs que nous avons vécus. \n\nUUEstrie Covid-19 Guidelines\nThe following guidelines are intended to ensure the safety of members\, friends and visitors of UUEstrie at UUEstrie-hosted in-person events. \n\nYou may attend an in-person event if you are fully vaccinated for Covid-19 according to the definition set by the Government of Quebec (at least 2 weeks following the second dose). \nMasks must be worn at all times indoors\, including during the service\, with the exception of the service leader or primary presenter.\nHand sanitizer will be provided at the entrance and exit.\nSocial distancing will be encouraged inside the church building. Some of the pews will not be available for seating to help maintain distancing.\nServices will not include congregational singing.\nServices will not include coffee hour.\n\nNote: UUEstrie cannot guarantee the vaccination status of all members and visitors so each individual must assess the risk for themselves when deciding whether to attend in-person events.
URL:https://uuestrie.ca/event/water-communion-communion-de-leau-in-person-at-the-church/
LOCATION:UUEstrie – Sanctuary (Upstairs)\, 201 Rue Main\, North Hatley\, QC\, J0B 2C0\, Canada
CATEGORIES:Service
ATTACH;FMTTYPE=image/jpeg:https://uuestrie.ca/wp-content/uploads/2019/08/i14h2xypr18.jpg
END:VEVENT
END:VCALENDAR