BEGIN:VCALENDAR
VERSION:2.0
PRODID:-//UUEstrie - ECPv6.15.16//NONSGML v1.0//EN
CALSCALE:GREGORIAN
METHOD:PUBLISH
X-ORIGINAL-URL:https://uuestrie.ca
X-WR-CALDESC:Events for UUEstrie
REFRESH-INTERVAL;VALUE=DURATION:PT1H
X-Robots-Tag:noindex
X-PUBLISHED-TTL:PT1H
BEGIN:VTIMEZONE
TZID:America/New_York
BEGIN:DAYLIGHT
TZOFFSETFROM:-0500
TZOFFSETTO:-0400
TZNAME:EDT
DTSTART:20250309T070000
END:DAYLIGHT
BEGIN:STANDARD
TZOFFSETFROM:-0400
TZOFFSETTO:-0500
TZNAME:EST
DTSTART:20251102T060000
END:STANDARD
BEGIN:DAYLIGHT
TZOFFSETFROM:-0500
TZOFFSETTO:-0400
TZNAME:EDT
DTSTART:20260308T070000
END:DAYLIGHT
BEGIN:STANDARD
TZOFFSETFROM:-0400
TZOFFSETTO:-0500
TZNAME:EST
DTSTART:20261101T060000
END:STANDARD
BEGIN:DAYLIGHT
TZOFFSETFROM:-0500
TZOFFSETTO:-0400
TZNAME:EDT
DTSTART:20270314T070000
END:DAYLIGHT
BEGIN:STANDARD
TZOFFSETFROM:-0400
TZOFFSETTO:-0500
TZNAME:EST
DTSTART:20271107T060000
END:STANDARD
END:VTIMEZONE
BEGIN:VEVENT
DTSTART;TZID=America/New_York:20260215T103000
DTEND;TZID=America/New_York:20260215T120000
DTSTAMP:20260423T113841
CREATED:20260213T143128Z
LAST-MODIFIED:20260213T143128Z
UID:2294-1771151400-1771156800@uuestrie.ca
SUMMARY:Sunday Feb 15th\, "What We Mean When We Say ‘UU’ ? An exploration of Unitarian Universalist ideas and ideals in practice Part 2: Living Our Values in the World"
DESCRIPTION:In our first gathering for this program series\, we reflected on love as the spiritual center of Unitarian Universalism. This month\, we turn toward what that love asks of us in the public sphere. \nUnitarian Universalism has long affirmed a commitment to justice\, equity\, and democratic process—not as abstract ideals\, but as lived responsibilities. What does it mean to practice our faith in times of political tension and rising authoritarianism? How do we remain grounded in our values while engaging the world as it is? \nTogether\, we will reflect on recent events in the United States\, where Unitarian Universalists—through congregations and leaders connected with the Unitarian Universalist Association—have spoken out and acted in defense of democratic institutions and human dignity. We will explore what courage\, accountability\, and solidarity look like in practice. \nAs with the first service\, this gathering will be rooted in deep listening and small-group sharing. There will be space to process\, question\, and connect—speaking from the heart and listening with care. Whether you are new to UU or have been walking this path for years\, you are warmly invited into the conversation. \nThe The Unitarian Universalist Pocket Guide will continue to serve as a touchstone for the series. Consider purchasing a copy\, or speak with a member of the leadership team if you would like to borrow one. \n~~~~~~~~~~~~~~~~ \nLors de la première rencontre de cette séries en janvier\, nous avons réfléchi à l’amour comme centre spirituel de l’unitarisme universaliste. Ce mois-ci\, nous nous tournons vers ce que cet amour nous appelle à faire dans la sphère publique. \nL’unitarisme universaliste affirme depuis longtemps un engagement envers la justice\, l’équité et le processus démocratique — non pas comme de simples idéaux\, mais comme des responsabilités concrètes. Que signifie vivre notre foi dans un contexte de tensions politiques et de montée de l’autoritarisme? Comment rester ancré·e·s dans nos valeurs tout en faisant face au monde tel qu’il est? \nNous prendrons le temps de réfléchir ensemble à des événements récents aux États-Unis\, où des communautés et des leaders liés à la Unitarian Universalist Association ont pris position pour défendre les institutions démocratiques et la dignité humaine. Nous nous demanderons à quoi ressemblent le courage\, la responsabilité et la solidarité lorsqu’ils prennent forme dans nos vies. \nComme lors de la première rencontre\, nous privilégierons l’écoute profonde et le partage en petits groupes. Un espace sera ouvert pour réfléchir\, questionner et créer du lien — en parlant avec le cœur et en écoutant avec attention. Que vous découvriez UU Estrie ou que vous y participiez depuis longtemps\, vous êtes chaleureusement invité·e à vous joindre à la conversation. \nLe Unitarian Universalist Pocket Guide continuera de nous servir de point de repère au fil de la série. Vous pouvez vous en procurer un exemplaire ou en emprunter un auprès d’un membre de l’équipe de leadership.
URL:https://uuestrie.ca/event/sunday-feb-15th-what-we-mean-when-we-say-uu-an-exploration-of-unitarian-universalist-ideas-and-ideals-in-practice-part-2-living-our-values-in-the-world/
LOCATION:UUEstrie – Stoddard Hall (Downstairs)\, 201 Rue Main\, North Hatley\, QC\, J0B 2C0\, Canada
CATEGORIES:Service
ATTACH;FMTTYPE=image/jpeg:https://uuestrie.ca/wp-content/uploads/2026/02/unnamed-3.jpg
END:VEVENT
END:VCALENDAR