BEGIN:VCALENDAR
VERSION:2.0
PRODID:-//UUEstrie - ECPv6.15.16//NONSGML v1.0//EN
CALSCALE:GREGORIAN
METHOD:PUBLISH
X-ORIGINAL-URL:https://uuestrie.ca
X-WR-CALDESC:Events for UUEstrie
REFRESH-INTERVAL;VALUE=DURATION:PT1H
X-Robots-Tag:noindex
X-PUBLISHED-TTL:PT1H
BEGIN:VTIMEZONE
TZID:America/New_York
BEGIN:DAYLIGHT
TZOFFSETFROM:-0500
TZOFFSETTO:-0400
TZNAME:EDT
DTSTART:20250309T070000
END:DAYLIGHT
BEGIN:STANDARD
TZOFFSETFROM:-0400
TZOFFSETTO:-0500
TZNAME:EST
DTSTART:20251102T060000
END:STANDARD
BEGIN:DAYLIGHT
TZOFFSETFROM:-0500
TZOFFSETTO:-0400
TZNAME:EDT
DTSTART:20260308T070000
END:DAYLIGHT
BEGIN:STANDARD
TZOFFSETFROM:-0400
TZOFFSETTO:-0500
TZNAME:EST
DTSTART:20261101T060000
END:STANDARD
BEGIN:DAYLIGHT
TZOFFSETFROM:-0500
TZOFFSETTO:-0400
TZNAME:EDT
DTSTART:20270314T070000
END:DAYLIGHT
BEGIN:STANDARD
TZOFFSETFROM:-0400
TZOFFSETTO:-0500
TZNAME:EST
DTSTART:20271107T060000
END:STANDARD
END:VTIMEZONE
BEGIN:VEVENT
DTSTART;TZID=America/New_York:20260208T103000
DTEND;TZID=America/New_York:20260208T120000
DTSTAMP:20260423T195426
CREATED:20260205T141152Z
LAST-MODIFIED:20260205T141152Z
UID:2291-1770546600-1770552000@uuestrie.ca
SUMMARY:February 8th\, 10:30 Games Day with Crystle Reid Journée des jeux avec Crystle Reid
DESCRIPTION:An annual tradition at UUEstrie where we explore the spirit of play. Crystle Reid will lead us in exploring our playful spirit! \nUne tradition annuelle à l’UUEstrie où l’on explore l’esprit du jeu. Crystle Reid nous guidera dans l’exploration de notre esprit ludique !
URL:https://uuestrie.ca/event/february-8th-1030-games-day-with-crystle-reid-journee-des-jeux-avec-crystle-reid/
LOCATION:UUEstrie – Stoddard Hall (Downstairs)\, 201 Rue Main\, North Hatley\, QC\, J0B 2C0\, Canada
CATEGORIES:Service
ATTACH;FMTTYPE=image/jpeg:https://uuestrie.ca/wp-content/uploads/2025/02/unnamed-scaled.jpg
END:VEVENT
END:VCALENDAR