BEGIN:VCALENDAR
VERSION:2.0
PRODID:-//UUEstrie - ECPv6.15.16//NONSGML v1.0//EN
CALSCALE:GREGORIAN
METHOD:PUBLISH
X-ORIGINAL-URL:https://uuestrie.ca
X-WR-CALDESC:Events for UUEstrie
REFRESH-INTERVAL;VALUE=DURATION:PT1H
X-Robots-Tag:noindex
X-PUBLISHED-TTL:PT1H
BEGIN:VTIMEZONE
TZID:America/New_York
BEGIN:DAYLIGHT
TZOFFSETFROM:-0500
TZOFFSETTO:-0400
TZNAME:EDT
DTSTART:20200308T070000
END:DAYLIGHT
BEGIN:STANDARD
TZOFFSETFROM:-0400
TZOFFSETTO:-0500
TZNAME:EST
DTSTART:20201101T060000
END:STANDARD
BEGIN:DAYLIGHT
TZOFFSETFROM:-0500
TZOFFSETTO:-0400
TZNAME:EDT
DTSTART:20210314T070000
END:DAYLIGHT
BEGIN:STANDARD
TZOFFSETFROM:-0400
TZOFFSETTO:-0500
TZNAME:EST
DTSTART:20211107T060000
END:STANDARD
BEGIN:DAYLIGHT
TZOFFSETFROM:-0500
TZOFFSETTO:-0400
TZNAME:EDT
DTSTART:20220313T070000
END:DAYLIGHT
BEGIN:STANDARD
TZOFFSETFROM:-0400
TZOFFSETTO:-0500
TZNAME:EST
DTSTART:20221106T060000
END:STANDARD
END:VTIMEZONE
BEGIN:VEVENT
DTSTART;TZID=America/New_York:20211212T103000
DTEND;TZID=America/New_York:20211212T120000
DTSTAMP:20260419T182024
CREATED:20211209T011605Z
LAST-MODIFIED:20211212T155245Z
UID:1335-1639305000-1639310400@uuestrie.ca
SUMMARY:Online via Zoom with Rev. Carole Martignacco
DESCRIPTION:Rev. Carole will lead us in an online service. Topic TBD
URL:https://uuestrie.ca/event/online-via-zoom-with-rev-carole-martignacco/
LOCATION:Via Zoom
CATEGORIES:Away from UUEstrie,Service
ATTACH;FMTTYPE=image/jpeg:https://uuestrie.ca/wp-content/uploads/2016/04/2015-05-Carole5.jpg
END:VEVENT
END:VCALENDAR