BEGIN:VCALENDAR
VERSION:2.0
PRODID:-//UUEstrie - ECPv6.15.16//NONSGML v1.0//EN
CALSCALE:GREGORIAN
METHOD:PUBLISH
X-WR-CALNAME:UUEstrie
X-ORIGINAL-URL:https://uuestrie.ca
X-WR-CALDESC:Events for UUEstrie
REFRESH-INTERVAL;VALUE=DURATION:PT1H
X-Robots-Tag:noindex
X-PUBLISHED-TTL:PT1H
BEGIN:VTIMEZONE
TZID:America/New_York
BEGIN:DAYLIGHT
TZOFFSETFROM:-0500
TZOFFSETTO:-0400
TZNAME:EDT
DTSTART:20200308T070000
END:DAYLIGHT
BEGIN:STANDARD
TZOFFSETFROM:-0400
TZOFFSETTO:-0500
TZNAME:EST
DTSTART:20201101T060000
END:STANDARD
BEGIN:DAYLIGHT
TZOFFSETFROM:-0500
TZOFFSETTO:-0400
TZNAME:EDT
DTSTART:20210314T070000
END:DAYLIGHT
BEGIN:STANDARD
TZOFFSETFROM:-0400
TZOFFSETTO:-0500
TZNAME:EST
DTSTART:20211107T060000
END:STANDARD
BEGIN:DAYLIGHT
TZOFFSETFROM:-0500
TZOFFSETTO:-0400
TZNAME:EDT
DTSTART:20220313T070000
END:DAYLIGHT
BEGIN:STANDARD
TZOFFSETFROM:-0400
TZOFFSETTO:-0500
TZNAME:EST
DTSTART:20221106T060000
END:STANDARD
END:VTIMEZONE
BEGIN:VEVENT
DTSTART;TZID=America/New_York:20210704T110000
DTEND;TZID=America/New_York:20210704T130000
DTSTAMP:20260425T103902
CREATED:20210704T132305Z
LAST-MODIFIED:20210704T134523Z
UID:1259-1625396400-1625403600@uuestrie.ca
SUMMARY:[Postponed] - Picnic with members and friends
DESCRIPTION:Note this event has been cancelled due to weather. Postponed to July 25.
URL:https://uuestrie.ca/event/postponed-picnic-with-members-and-friends/
LOCATION:QC
CATEGORIES:Away from UUEstrie,Service
END:VEVENT
END:VCALENDAR