BEGIN:VCALENDAR
VERSION:2.0
PRODID:-//UUEstrie - ECPv6.15.16//NONSGML v1.0//EN
CALSCALE:GREGORIAN
METHOD:PUBLISH
X-WR-CALNAME:UUEstrie
X-ORIGINAL-URL:https://uuestrie.ca
X-WR-CALDESC:Events for UUEstrie
REFRESH-INTERVAL;VALUE=DURATION:PT1H
X-Robots-Tag:noindex
X-PUBLISHED-TTL:PT1H
BEGIN:VTIMEZONE
TZID:America/New_York
BEGIN:DAYLIGHT
TZOFFSETFROM:-0500
TZOFFSETTO:-0400
TZNAME:EDT
DTSTART:20220313T070000
END:DAYLIGHT
BEGIN:STANDARD
TZOFFSETFROM:-0400
TZOFFSETTO:-0500
TZNAME:EST
DTSTART:20221106T060000
END:STANDARD
BEGIN:DAYLIGHT
TZOFFSETFROM:-0500
TZOFFSETTO:-0400
TZNAME:EDT
DTSTART:20230312T070000
END:DAYLIGHT
BEGIN:STANDARD
TZOFFSETFROM:-0400
TZOFFSETTO:-0500
TZNAME:EST
DTSTART:20231105T060000
END:STANDARD
BEGIN:DAYLIGHT
TZOFFSETFROM:-0500
TZOFFSETTO:-0400
TZNAME:EDT
DTSTART:20240310T070000
END:DAYLIGHT
BEGIN:STANDARD
TZOFFSETFROM:-0400
TZOFFSETTO:-0500
TZNAME:EST
DTSTART:20241103T060000
END:STANDARD
END:VTIMEZONE
BEGIN:VEVENT
DTSTART;TZID=America/New_York:20231203T103000
DTEND;TZID=America/New_York:20231203T120000
DTSTAMP:20260423T110442
CREATED:20231201T024047Z
LAST-MODIFIED:20231201T024047Z
UID:1820-1701599400-1701604800@uuestrie.ca
SUMMARY:[Away from UUEstrie - In Derby Line VT] December 3 Sunday service\, 10:30 a.m.: "It's So Easy to Forget"\, with Gabriella Brand
DESCRIPTION:Sunday\, December 3\, 10 a.m.: No service in North Hatley. We are invited to join the First Universalist Parish in Derby Line\, 112 Main St.\, Derby Line\, VT.  (Version française suit) \nAs neuroscientists learn more about the brain\, they acknowledge that human memory is both slippery and hard wired. Gabriella Brand speaks of the role that memory can play in our daily existence. By consciously forging and cultivating positive memories can we bring greater meaning to our lives and to the lives of others. \nGabriella Brand is an educator\, author\, linguist\, and counselor.  Her writing appears in The Christian Science Monitor\, the Globe and Mail\, and in over fifty literary publications.  She teaches languages and writing in the OLLI program at the University of Connecticut.  A lay leader in the Unitarian tradition\, Gabriella lives in Connecticut with her husband\, the Reverend Douglas Peary. \nDIRECTIONS: In the town of Stanstead\, use the little border crossing (NOT Highway 55). Take Route 143 (Main St.) to the Derby Line Port of Entry at 84 Main Street. The First Universalist building is just past the border\, on your right. BRING YOUR PASSPORT. \nDimanche26 novembre\, à 10 h : Aucun service à North Hatley. Nous sommes invités à rejoindre la First Universalist Parish of Derby Line\, 112 Main St.\, Derby Line\, VT. Email : 1uuderbyline@gmail.com ; 802-487-0997. \nC’est si facile d’oublier\, avec Gabriella Brand (EN PERSONNE) (en anglais) Tous sont les bienvenus. \nÀ mesure que les neuroscientifiques en apprennent davantage sur le cerveau\, ils reconnaissent que la mémoire humaine est à la fois glissante et câblée. Gabriella Brand parle du rôle que la mémoire peut jouer dans notre existence quotidienne. En forgeant et en cultivant consciemment des souvenirs positifs\, nous pouvons donner plus de sens à notre vie et à celle des autres. \nGabriella Brand est éducatrice\, auteure\, linguiste et conseillère. Ses écrits apparaissent dans The Christian Science Monitor\, le Globe and Mail et dans plus de cinquante publications littéraires. Elle enseigne les langues et l’écriture dans le programme OLLI de l’Université du Connecticut. Leader laïque de la tradition unitarienne\, Gabriella vit dans le Connecticut avec son mari\, le révérend Douglas Peary. \nDIRECTIONS : Dans la ville de Stanstead\, utilisez le petit passage frontalier de Stanstead (non pas l’autoroute 55). Prenez la route 143 (Main St.) jusqu’au point d’entrée de Derby Line\, au 84 Main Street. Le bâtiment First Universalist se trouve juste après la frontière\, sur votre droite. APPORTEZ VOTRE PASSEPORT.
URL:https://uuestrie.ca/event/away-from-uuestrie-in-derby-line-vt-december-3-sunday-service-1030-a-m-its-so-easy-to-forget-with-gabriella-brand/
LOCATION:outing
CATEGORIES:Away from UUEstrie,Service
ATTACH;FMTTYPE=image/png:https://uuestrie.ca/wp-content/uploads/2022/03/gabriella.png
END:VEVENT
END:VCALENDAR