BEGIN:VCALENDAR
VERSION:2.0
PRODID:-//UUEstrie - ECPv6.15.16//NONSGML v1.0//EN
CALSCALE:GREGORIAN
METHOD:PUBLISH
X-ORIGINAL-URL:https://uuestrie.ca
X-WR-CALDESC:Events for UUEstrie
REFRESH-INTERVAL;VALUE=DURATION:PT1H
X-Robots-Tag:noindex
X-PUBLISHED-TTL:PT1H
BEGIN:VTIMEZONE
TZID:America/New_York
BEGIN:DAYLIGHT
TZOFFSETFROM:-0500
TZOFFSETTO:-0400
TZNAME:EDT
DTSTART:20250309T070000
END:DAYLIGHT
BEGIN:STANDARD
TZOFFSETFROM:-0400
TZOFFSETTO:-0500
TZNAME:EST
DTSTART:20251102T060000
END:STANDARD
BEGIN:DAYLIGHT
TZOFFSETFROM:-0500
TZOFFSETTO:-0400
TZNAME:EDT
DTSTART:20260308T070000
END:DAYLIGHT
BEGIN:STANDARD
TZOFFSETFROM:-0400
TZOFFSETTO:-0500
TZNAME:EST
DTSTART:20261101T060000
END:STANDARD
BEGIN:DAYLIGHT
TZOFFSETFROM:-0500
TZOFFSETTO:-0400
TZNAME:EDT
DTSTART:20270314T070000
END:DAYLIGHT
BEGIN:STANDARD
TZOFFSETFROM:-0400
TZOFFSETTO:-0500
TZNAME:EST
DTSTART:20271107T060000
END:STANDARD
END:VTIMEZONE
BEGIN:VEVENT
DTSTART;TZID=America/New_York:20260222T103000
DTEND;TZID=America/New_York:20260222T120000
DTSTAMP:20260423T121646
CREATED:20260220T150022Z
LAST-MODIFIED:20260220T150045Z
UID:2297-1771756200-1771761600@uuestrie.ca
SUMMARY:Sunday Feb 22nd\, "Standing\, Sitting Exploring the F.M. Alexander Technique and Vipassana in the context of UU Inspirations" with Philippe Bouskéla
DESCRIPTION:This reflection will introduce the principles of the F.M. Alexander Technique — a practice that brings mindful attention to habitual patterns of movement and posture — as well as Vipassana\, a meditation tradition centered on attentive awareness of the breath.\nAt the heart of both approaches is observation as a non-judgmental act of curiosity: noticing what is present\, just as it is\, without trying to correct or modify it. Rather than doing differently\, the invitation is to pause the habitual doing — to undo — and allow life’s own intelligence to unfold.\nBy turning attention toward ordinary actions such as standing and sitting\, participants are invited to explore how awareness itself can open new possibilities for choice\, freedom\, ease\, and presence. \nTo see or not to see.\nTo do or not to do.\nTo observe and to experience. \nPhilippe Bouskéla has always been interested in lived experience. His curiosity to discover “what things feel like” has led him to explore\, study\, and work through various mediums in theatre and dance (Champlain/Bishop’s\, Piggery Theatre — Eastern Townships 1980–84)\, a BA at Concordia (Montreal 1984–86\, 1990–91)\, the Theatreschool for New Dance Development (Amsterdam\, Netherlands — Diploma 1986–89)\, certification as a teacher of the F.M. Alexander Technique (Eastern Townships 1995–98)\, as well as training in massage therapy (Eastern Townships 2023–24). \nHe completed his first Vipassana retreat in Montebello in October 2025.\nA reminder: winter services are held downstairs. Please enter through the basement door at the top of the driveway on the left (north) side of the church. \n*** \nDebout\, assis\nExplorer la technique F.M. Alexander et la méditation Vipassana dans le contexte des inspirations UU\n(avec Philippe Bouskéla) \nCette réflexion proposera une introduction aux principes de la technique F.M. Alexander — une pratique qui invite à porter une attention consciente à nos habitudes de mouvement et de posture — ainsi qu’à la méditation Vipassana\, une tradition centrée sur l’observation attentive du souffle.\nAu cœur de ces deux approches se trouve l’observation comme un acte de curiosité sans jugement : remarquer ce qui est là\, tel que c’est\, sans chercher à le corriger ni à le modifier.\nEn tournant notre attention vers des actions ordinaires comme se tenir debout ou s’asseoir\, nous serons invité·e·s à explorer comment la conscience elle-même peut ouvrir de nouvelles possibilités de choix\, de liberté\, de présence et d’aisance. \nVoir ou ne pas voir.\nFaire ou ne pas faire.\nObserver et faire l’expérience. \nPhilippe Bouskéla s’est toujours intéressé à l’expérience vécue. Sa curiosité pour découvrir « comment les choses se sentent » l’a amené à explorer\, étudier et travailler à travers différents médiums en théâtre et en danse (Champlain/Bishop’s\, Piggery Theatre — Cantons-de-l’Est 1980-84)\, un baccalauréat à Concordia (Montréal 1984-86\, 1990-91)\, la Theatreschool for New Dance Development (Amsterdam\, Pays-Bas — diplôme 1986-89)\, une certification d’enseignement en technique F.M. Alexander (Cantons-de-l’Est 1995-98)\, ainsi qu’une formation en massothérapie (Cantons-de-l’Est 2023-24). \nIl a effectué sa première retraite Vipassana à Montebello en octobre 2025. \nRappel important : les rencontres d’hiver ont lieu au sous-sol. Merci d’entrer par la porte du sous-sol\, située en haut de l’entrée du côté gauche (nord) de l’église.
URL:https://uuestrie.ca/event/sunday-feb-22nd-standing-sitting-exploring-the-f-m-alexander-technique-and-vipassana-in-the-context-of-uu-inspirations/
LOCATION:UUEstrie – Stoddard Hall (Downstairs)\, 201 Rue Main\, North Hatley\, QC\, J0B 2C0\, Canada
CATEGORIES:Service
ATTACH;FMTTYPE=image/jpeg:https://uuestrie.ca/wp-content/uploads/2026/02/unnamed-1.jpg
END:VEVENT
END:VCALENDAR