BEGIN:VCALENDAR
VERSION:2.0
PRODID:-//UUEstrie - ECPv6.15.16//NONSGML v1.0//EN
CALSCALE:GREGORIAN
METHOD:PUBLISH
X-ORIGINAL-URL:https://uuestrie.ca
X-WR-CALDESC:Events for UUEstrie
REFRESH-INTERVAL;VALUE=DURATION:PT1H
X-Robots-Tag:noindex
X-PUBLISHED-TTL:PT1H
BEGIN:VTIMEZONE
TZID:America/New_York
BEGIN:DAYLIGHT
TZOFFSETFROM:-0500
TZOFFSETTO:-0400
TZNAME:EDT
DTSTART:20230312T070000
END:DAYLIGHT
BEGIN:STANDARD
TZOFFSETFROM:-0400
TZOFFSETTO:-0500
TZNAME:EST
DTSTART:20231105T060000
END:STANDARD
BEGIN:DAYLIGHT
TZOFFSETFROM:-0500
TZOFFSETTO:-0400
TZNAME:EDT
DTSTART:20240310T070000
END:DAYLIGHT
BEGIN:STANDARD
TZOFFSETFROM:-0400
TZOFFSETTO:-0500
TZNAME:EST
DTSTART:20241103T060000
END:STANDARD
BEGIN:DAYLIGHT
TZOFFSETFROM:-0500
TZOFFSETTO:-0400
TZNAME:EDT
DTSTART:20250309T070000
END:DAYLIGHT
BEGIN:STANDARD
TZOFFSETFROM:-0400
TZOFFSETTO:-0500
TZNAME:EST
DTSTART:20251102T060000
END:STANDARD
END:VTIMEZONE
BEGIN:VEVENT
DTSTART;TZID=America/New_York:20240901T103000
DTEND;TZID=America/New_York:20240901T120000
DTSTAMP:20260424T092939
CREATED:20240828T133605Z
LAST-MODIFIED:20240830T132439Z
UID:1973-1725186600-1725192000@uuestrie.ca
SUMMARY:Sept 1\, 10:30 a.m.: "Summer Reading Exploration” with Amy Panetta
DESCRIPTION:Downstairs – Sunday\, September 1st (Labour Day Weekend) we will feature a participatory service led by Amy Panetta. Bring a book that you are currently reading\, the last book you remember opening\, or one you would like to read soon (or\, if you wish\, the book on a reader device). We will get the opportunity to summarize and share any striking pieces of wisdom. \nDimanche 1 septembre\, à 10 h 30. À L’ÉTAGE (en anglais) \nAu rez-de-chaussée – Le dimanche 1er septembre (week-end de la fête du Travail)\, nous proposerons un service participatif dirigé par Amy Panetta. Apportez un livre que vous lisez actuellement\, le dernier livre dont vous vous souvenez avoir ouvert ou un livre que vous aimeriez lire bientôt (ou\, si vous le souhaitez\, le livre sur un appareil de lecture). Nous aurons l’occasion de résumer et de partager tous les éléments de sagesse marquants.
URL:https://uuestrie.ca/event/sept-1-1030-a-m-summer-reading-exploration-with-amy-panetta/
LOCATION:UUEstrie – Stoddard Hall (Downstairs)\, 201 Rue Main\, North Hatley\, QC\, J0B 2C0\, Canada
CATEGORIES:Service
ATTACH;FMTTYPE=image/jpeg:https://uuestrie.ca/wp-content/uploads/2021/05/hvb9zyszgzq.jpg
END:VEVENT
END:VCALENDAR