BEGIN:VCALENDAR
VERSION:2.0
PRODID:-//UUEstrie - ECPv6.15.16//NONSGML v1.0//EN
CALSCALE:GREGORIAN
METHOD:PUBLISH
X-WR-CALNAME:UUEstrie
X-ORIGINAL-URL:https://uuestrie.ca
X-WR-CALDESC:Events for UUEstrie
REFRESH-INTERVAL;VALUE=DURATION:PT1H
X-Robots-Tag:noindex
X-PUBLISHED-TTL:PT1H
BEGIN:VTIMEZONE
TZID:America/New_York
BEGIN:DAYLIGHT
TZOFFSETFROM:-0500
TZOFFSETTO:-0400
TZNAME:EDT
DTSTART:20200308T070000
END:DAYLIGHT
BEGIN:STANDARD
TZOFFSETFROM:-0400
TZOFFSETTO:-0500
TZNAME:EST
DTSTART:20201101T060000
END:STANDARD
BEGIN:DAYLIGHT
TZOFFSETFROM:-0500
TZOFFSETTO:-0400
TZNAME:EDT
DTSTART:20210314T070000
END:DAYLIGHT
BEGIN:STANDARD
TZOFFSETFROM:-0400
TZOFFSETTO:-0500
TZNAME:EST
DTSTART:20211107T060000
END:STANDARD
BEGIN:DAYLIGHT
TZOFFSETFROM:-0500
TZOFFSETTO:-0400
TZNAME:EDT
DTSTART:20220313T070000
END:DAYLIGHT
BEGIN:STANDARD
TZOFFSETFROM:-0400
TZOFFSETTO:-0500
TZNAME:EST
DTSTART:20221106T060000
END:STANDARD
END:VTIMEZONE
BEGIN:VEVENT
DTSTART;TZID=America/New_York:20210404T103000
DTEND;TZID=America/New_York:20210404T120000
DTSTAMP:20260425T104242
CREATED:20210516T154204Z
LAST-MODIFIED:20210516T154204Z
UID:1249-1617532200-1617537600@uuestrie.ca
SUMMARY:Are You Ready to Blossom? /  Êtes-vous prêt à vous épanouir? - avec la rév. Carole Martignacco
DESCRIPTION:  \nThis is the season of seeds. Rebirth\, renewal and regeneration. What can we learn from the earth about coming alive in due time? Please don’t forget to bring a small snack ( cracker or cookie) and a wee sip of something for our very UU earthy communion. (This Sunday\, we will be joined by Derby Line.) \n\nC’est la saison de semences. Renaissance\, renouveau et régénération. Que pouvons-nous apprendre de la terre sur la façon de prendre vie en temps opportun ? N’oubliez pas d’apporter une petite collation (craquelins ou biscuits) et une petite gorgée de quelque chose pour notre communion très UU. (Ce dimanche\, nous serons rejoints par les unitariens universalistes de Derby Line.)
URL:https://uuestrie.ca/event/are-you-ready-to-blossom-etes-vous-pret-a-vous-epanouir-avec-la-rev-carole-martignacco/
LOCATION:Via Zoom
CATEGORIES:Service
ATTACH;FMTTYPE=image/jpeg:https://uuestrie.ca/wp-content/uploads/2016/04/2015-05-Carole5.jpg
END:VEVENT
END:VCALENDAR